BEGIN:VCALENDAR
VERSION:2.0
PRODID:-//Tukios.com/
BEGIN:VEVENT
UID:0be2f65f-bc66-4c67-9234-64cc59ba51e4@www.houseoftownsmortuary.com
DTSTAMP:20260422T090706Z
DTSTART:20260307T180000Z
DTEND:20260307T183000Z
SUMMARY:Interment
DESCRIPTION:
URL:https://www.houseoftownsmortuary.com/obituaries/mother-lola-russell
LOCATION:  Railroad St  Butler GA 31006
GEO:32.5565064;-84.2246519
END:VEVENT
END:VCALENDAR